BEGIN:VCALENDAR
VERSION:2.0
PRODID:-//Alligator Bioscience - ECPv6.15.19//NONSGML v1.0//EN
CALSCALE:GREGORIAN
METHOD:PUBLISH
X-WR-CALNAME:Alligator Bioscience
X-ORIGINAL-URL:https://alligatorbioscience.se
X-WR-CALDESC:Events for Alligator Bioscience
REFRESH-INTERVAL;VALUE=DURATION:PT1H
X-Robots-Tag:noindex
X-PUBLISHED-TTL:PT1H
BEGIN:VTIMEZONE
TZID:Europe/Stockholm
BEGIN:DAYLIGHT
TZOFFSETFROM:+0100
TZOFFSETTO:+0200
TZNAME:CEST
DTSTART:20210328T010000
END:DAYLIGHT
BEGIN:STANDARD
TZOFFSETFROM:+0200
TZOFFSETTO:+0100
TZNAME:CET
DTSTART:20211031T010000
END:STANDARD
BEGIN:DAYLIGHT
TZOFFSETFROM:+0100
TZOFFSETTO:+0200
TZNAME:CEST
DTSTART:20220327T010000
END:DAYLIGHT
BEGIN:STANDARD
TZOFFSETFROM:+0200
TZOFFSETTO:+0100
TZNAME:CET
DTSTART:20221030T010000
END:STANDARD
BEGIN:DAYLIGHT
TZOFFSETFROM:+0100
TZOFFSETTO:+0200
TZNAME:CEST
DTSTART:20230326T010000
END:DAYLIGHT
BEGIN:STANDARD
TZOFFSETFROM:+0200
TZOFFSETTO:+0100
TZNAME:CET
DTSTART:20231029T010000
END:STANDARD
END:VTIMEZONE
BEGIN:VEVENT
DTSTART;VALUE=DATE:20220613
DTEND;VALUE=DATE:20220617
DTSTAMP:20260426T055228
CREATED:20221110T124418Z
LAST-MODIFIED:20221110T124418Z
UID:7644-1655078400-1655423999@alligatorbioscience.se
SUMMARY:2022 BIO International Convention in San Diego
DESCRIPTION:
URL:https://alligatorbioscience.se/en/event/2022-bio-international-convention-in-san-diego/
LOCATION:San Diego\, San Diego\, California\, Förenta Staterna\, USA
CATEGORIES:Scientific meetings
END:VEVENT
BEGIN:VEVENT
DTSTART;VALUE=DATE:20220614
DTEND;VALUE=DATE:20220617
DTSTAMP:20260426T055228
CREATED:20221110T112632Z
LAST-MODIFIED:20221110T112651Z
UID:7639-1655164800-1655423999@alligatorbioscience.se
SUMMARY:Tumor Myeloid-Directed Therapies Summit
DESCRIPTION:
URL:https://alligatorbioscience.se/en/event/tumor-myeloid-directed-therapies-summit/
LOCATION:Boston\, Boston\, Massachusetts\, Förenta Staterna\, USA
CATEGORIES:Scientific meetings
END:VEVENT
END:VCALENDAR