BEGIN:VCALENDAR
VERSION:2.0
PRODID:-//Alligator Bioscience - ECPv6.15.19//NONSGML v1.0//EN
CALSCALE:GREGORIAN
METHOD:PUBLISH
X-ORIGINAL-URL:https://alligatorbioscience.se
X-WR-CALDESC:Händelser för Alligator Bioscience
REFRESH-INTERVAL;VALUE=DURATION:PT1H
X-Robots-Tag:noindex
X-PUBLISHED-TTL:PT1H
BEGIN:VTIMEZONE
TZID:Europe/Stockholm
BEGIN:DAYLIGHT
TZOFFSETFROM:+0100
TZOFFSETTO:+0200
TZNAME:CEST
DTSTART:20180325T010000
END:DAYLIGHT
BEGIN:STANDARD
TZOFFSETFROM:+0200
TZOFFSETTO:+0100
TZNAME:CET
DTSTART:20181028T010000
END:STANDARD
BEGIN:DAYLIGHT
TZOFFSETFROM:+0100
TZOFFSETTO:+0200
TZNAME:CEST
DTSTART:20190331T010000
END:DAYLIGHT
BEGIN:STANDARD
TZOFFSETFROM:+0200
TZOFFSETTO:+0100
TZNAME:CET
DTSTART:20191027T010000
END:STANDARD
BEGIN:DAYLIGHT
TZOFFSETFROM:+0100
TZOFFSETTO:+0200
TZNAME:CEST
DTSTART:20200329T010000
END:DAYLIGHT
BEGIN:STANDARD
TZOFFSETFROM:+0200
TZOFFSETTO:+0100
TZNAME:CET
DTSTART:20201025T010000
END:STANDARD
BEGIN:DAYLIGHT
TZOFFSETFROM:+0100
TZOFFSETTO:+0200
TZNAME:CEST
DTSTART:20210328T010000
END:DAYLIGHT
BEGIN:STANDARD
TZOFFSETFROM:+0200
TZOFFSETTO:+0100
TZNAME:CET
DTSTART:20211031T010000
END:STANDARD
BEGIN:DAYLIGHT
TZOFFSETFROM:+0100
TZOFFSETTO:+0200
TZNAME:CEST
DTSTART:20220327T010000
END:DAYLIGHT
BEGIN:STANDARD
TZOFFSETFROM:+0200
TZOFFSETTO:+0100
TZNAME:CET
DTSTART:20221030T010000
END:STANDARD
BEGIN:DAYLIGHT
TZOFFSETFROM:+0100
TZOFFSETTO:+0200
TZNAME:CEST
DTSTART:20230326T010000
END:DAYLIGHT
BEGIN:STANDARD
TZOFFSETFROM:+0200
TZOFFSETTO:+0100
TZNAME:CET
DTSTART:20231029T010000
END:STANDARD
BEGIN:DAYLIGHT
TZOFFSETFROM:+0100
TZOFFSETTO:+0200
TZNAME:CEST
DTSTART:20240331T010000
END:DAYLIGHT
BEGIN:STANDARD
TZOFFSETFROM:+0200
TZOFFSETTO:+0100
TZNAME:CET
DTSTART:20241027T010000
END:STANDARD
END:VTIMEZONE
BEGIN:VEVENT
DTSTART;VALUE=DATE:20230425
DTEND;VALUE=DATE:20230426
DTSTAMP:20260421T120232
CREATED:20220901T060531Z
LAST-MODIFIED:20230322T074631Z
UID:7366-1682380800-1682467199@alligatorbioscience.se
SUMMARY:Delårsrapport januari-mars 2023
DESCRIPTION:
URL:https://alligatorbioscience.se/event/delarsrapport-januari-mars-2023/
CATEGORIES:Finansiella events
END:VEVENT
BEGIN:VEVENT
DTSTART;VALUE=DATE:20230424
DTEND;VALUE=DATE:20230425
DTSTAMP:20260421T120232
CREATED:20230322T074544Z
LAST-MODIFIED:20230322T074544Z
UID:8147-1682294400-1682380799@alligatorbioscience.se
SUMMARY:Extra bolagsstämma 2023
DESCRIPTION:
URL:https://alligatorbioscience.se/event/extra-bolagsstamma-2023/
CATEGORIES:Bolagsstämma
END:VEVENT
BEGIN:VEVENT
DTSTART;VALUE=DATE:20230222
DTEND;VALUE=DATE:20230224
DTSTAMP:20260421T120232
CREATED:20230110T091738Z
LAST-MODIFIED:20230110T091829Z
UID:7819-1677024000-1677196799@alligatorbioscience.se
SUMMARY:European Bispecific & Multispecific Antibody Congress
DESCRIPTION:Laura von Schantz\, Vice President of Discovery på Alligator Bioscience\, kommer att hålla en presentation med titeln ”Reviewing the Landscape of Obligate MoAs for Bi-/Multispecifics to Prioritise and De-Risk Current and Future Efforts” den 22 februari\, klockan 14.30.
URL:https://alligatorbioscience.se/event/european-bispecific-multispecific-antibody-congress/
LOCATION:Amsterdam\, Amsterdam\, Nederländerna
CATEGORIES:Vetenskapliga konferenser
END:VEVENT
BEGIN:VEVENT
DTSTART;VALUE=DATE:20230222
DTEND;VALUE=DATE:20230223
DTSTAMP:20260421T120232
CREATED:20230110T092013Z
LAST-MODIFIED:20230110T092013Z
UID:7827-1677024000-1677110399@alligatorbioscience.se
SUMMARY:ØU Life Science Investerarkonferens
DESCRIPTION:Alligators vd Søren Bregenholt kommer att presentera bolaget\, dess senaste utveckling och kommande nyckelevents för investerare.
URL:https://alligatorbioscience.se/event/ou-life-science-investerarkonferens/
LOCATION:Köpenhamn\, Köpenhamn\, Danmark
CATEGORIES:IR events
END:VEVENT
BEGIN:VEVENT
DTSTART;VALUE=DATE:20230210
DTEND;VALUE=DATE:20230211
DTSTAMP:20260421T120232
CREATED:20220901T060112Z
LAST-MODIFIED:20220901T060112Z
UID:7362-1675987200-1676073599@alligatorbioscience.se
SUMMARY:Bokslutskommuniké januari-december 2022
DESCRIPTION:
URL:https://alligatorbioscience.se/event/bokslutskommunike-januari-december-2022/
CATEGORIES:Finansiella events
END:VEVENT
BEGIN:VEVENT
DTSTART;VALUE=DATE:20230131
DTEND;VALUE=DATE:20230201
DTSTAMP:20260421T120232
CREATED:20221216T120901Z
LAST-MODIFIED:20221216T120910Z
UID:7761-1675123200-1675209599@alligatorbioscience.se
SUMMARY:Aktiespararna "Aktiedagen i Lund"
DESCRIPTION:
URL:https://alligatorbioscience.se/event/aktiespararna-aktiedagen-i-lund/
LOCATION:Elite Hotel Ideon\, Scheelevägen 27\, Lund\, Sverige
END:VEVENT
BEGIN:VEVENT
DTSTART;VALUE=DATE:20230119
DTEND;VALUE=DATE:20230120
DTSTAMP:20260421T120232
CREATED:20221216T120657Z
LAST-MODIFIED:20221216T120937Z
UID:7755-1674086400-1674172799@alligatorbioscience.se
SUMMARY:Redeye Fight Cancer Day 2023
DESCRIPTION:
URL:https://alligatorbioscience.se/event/redeye-fight-cancer-day-2023/
LOCATION:Redeye\, Mäster Samuelsgatan 42\, Stockholm\, Sverige
END:VEVENT
BEGIN:VEVENT
DTSTART;VALUE=DATE:20230109
DTEND;VALUE=DATE:20230113
DTSTAMP:20260421T120232
CREATED:20221216T120448Z
LAST-MODIFIED:20221216T120448Z
UID:7750-1673222400-1673567999@alligatorbioscience.se
SUMMARY:41st Annual J.P. Morgan Healthcare Conference
DESCRIPTION:
URL:https://alligatorbioscience.se/event/41st-annual-j-p-morgan-healthcare-conference/
CATEGORIES:IR events
END:VEVENT
BEGIN:VEVENT
DTSTART;VALUE=DATE:20221215
DTEND;VALUE=DATE:20221216
DTSTAMP:20260421T120232
CREATED:20221110T112251Z
LAST-MODIFIED:20221110T112251Z
UID:7633-1671062400-1671148799@alligatorbioscience.se
SUMMARY:13th Annual DNB Nordic Healthcare Conference
DESCRIPTION:Alligators vd Søren Bregenholt kommer att presentera bolaget\, dess senaste utveckling\, och kommande nyckelevent för investerare.
URL:https://alligatorbioscience.se/event/13th-annual-dnb-nordic-healthcare-conference-2/
LOCATION:Oslo\, Oslo\, Norge
CATEGORIES:IR events
END:VEVENT
BEGIN:VEVENT
DTSTART;TZID=Europe/Stockholm:20221130T130000
DTEND;TZID=Europe/Stockholm:20221130T133000
DTSTAMP:20260421T120232
CREATED:20221110T112053Z
LAST-MODIFIED:20221110T112053Z
UID:7628-1669813200-1669815000@alligatorbioscience.se
SUMMARY:Biostock Life Science Fall Summit 2022
DESCRIPTION:Alligators vd Søren Bregenholt kommer att hålla en företagspresentation\, vilken följs av en frågestund\, den 30 november klockan 13:00.
URL:https://alligatorbioscience.se/event/biostock-life-science-fall-summit-2022-2/
LOCATION:Medicon Village\, Medicon Village\, Lund\, Sverige
CATEGORIES:IR events
END:VEVENT
BEGIN:VEVENT
DTSTART;VALUE=DATE:20221124
DTEND;VALUE=DATE:20221125
DTSTAMP:20260421T120232
CREATED:20221110T111825Z
LAST-MODIFIED:20221110T111825Z
UID:7623-1669248000-1669334399@alligatorbioscience.se
SUMMARY:Redeye Life Science Day\, Stockholm
DESCRIPTION:Alligators vd Søren Bregenholt kommer att presentera bolaget\, dess senaste utveckling\, och kommande nyckelevent för investerare.
URL:https://alligatorbioscience.se/event/redeye-life-science-day-stockholm-2/
LOCATION:Virtuellt
CATEGORIES:IR events
END:VEVENT
BEGIN:VEVENT
DTSTART;VALUE=DATE:20221115
DTEND;VALUE=DATE:20221118
DTSTAMP:20260421T120232
CREATED:20221110T111544Z
LAST-MODIFIED:20221110T111544Z
UID:7618-1668470400-1668729599@alligatorbioscience.se
SUMMARY:Jefferies London Healthcare Conference 2022
DESCRIPTION:
URL:https://alligatorbioscience.se/event/jefferies-london-healthcare-conference-2022-2/
LOCATION:London\, London\, Storbritannien (Förenade kungariket Storbritannien)
CATEGORIES:IR events
END:VEVENT
BEGIN:VEVENT
DTSTART;VALUE=DATE:20221108
DTEND;VALUE=DATE:20221113
DTSTAMP:20260421T120232
CREATED:20221110T111250Z
LAST-MODIFIED:20221110T111250Z
UID:7612-1667865600-1668297599@alligatorbioscience.se
SUMMARY:SITC (Society for Immunotherapy of Cancer) 2022
DESCRIPTION:Malin Lindstedt\, gästprofessor vid Alligator Bioscience och professor vid institutionen för immunteknologi vid Lunds universitet kommer att hålla en posterpresentation med posternummer 35 den 10 november\, med titeln ”Early pharmacodynamic changes measured by RNA sequencing in peripheral blood from patients in a phase 1 study with mitazalimab\, a potent CD40 agonistic IgG1 monoclonal antibody”. \nAna Carneiro\, docent och överläkare vid Lunds universitet\, kommer att hålla en posterpresentation med posternummer 714 den 11 november\, med titeln ” ATOR-1017\, a 4-1BB antibody\, demonstrates promising safety and proof of mechanism in a first-in-human study in patients with advanced solid malignancies”.
URL:https://alligatorbioscience.se/event/sitc-society-for-immunotherapy-of-cancer-2022-2/
LOCATION:Boston\, Boston\, Massachusetts\, Förenta Staterna\, USA
CATEGORIES:Vetenskapliga konferenser
END:VEVENT
BEGIN:VEVENT
DTSTART;VALUE=DATE:20221102
DTEND;VALUE=DATE:20221105
DTSTAMP:20260421T120232
CREATED:20221110T110852Z
LAST-MODIFIED:20221110T111005Z
UID:7603-1667347200-1667606399@alligatorbioscience.se
SUMMARY:Festival of Biologics
DESCRIPTION:Mattias Levin\, PhD\, Senior Team Manager\, Antibody Engineering\, på Alligator Bioscience kommer att hålla en presentation den 3 november\, kl 17:00 med titeln ”Neo-X-Prime™: Bispecific Tumor Antigen Conditional CD40 Agonistic Antibodies”.
URL:https://alligatorbioscience.se/event/festival-of-biologics/
LOCATION:Basel\, Schweiz
CATEGORIES:Vetenskapliga konferenser
END:VEVENT
BEGIN:VEVENT
DTSTART;VALUE=DATE:20221020
DTEND;VALUE=DATE:20221021
DTSTAMP:20260421T120232
CREATED:20220901T052248Z
LAST-MODIFIED:20220901T052934Z
UID:7355-1666224000-1666310399@alligatorbioscience.se
SUMMARY:Delårsrapport januari-september 2022
DESCRIPTION:
URL:https://alligatorbioscience.se/event/delarsrapport-januari-september-2022/
CATEGORIES:Finansiella events
END:VEVENT
BEGIN:VEVENT
DTSTART;VALUE=DATE:20220712
DTEND;VALUE=DATE:20220713
DTSTAMP:20260421T120232
CREATED:20221110T112451Z
LAST-MODIFIED:20221110T112451Z
UID:7637-1657584000-1657670399@alligatorbioscience.se
SUMMARY:Delårsrapport januari - juni 2022
DESCRIPTION:
URL:https://alligatorbioscience.se/event/delarsrapport-januari-juni-2022/
CATEGORIES:Finansiella events
END:VEVENT
BEGIN:VEVENT
DTSTART;VALUE=DATE:20220614
DTEND;VALUE=DATE:20220617
DTSTAMP:20260421T120232
CREATED:20221110T112732Z
LAST-MODIFIED:20221110T112732Z
UID:7641-1655164800-1655423999@alligatorbioscience.se
SUMMARY:Tumor Myeloid-Directed Therapies Summit
DESCRIPTION:
URL:https://alligatorbioscience.se/event/tumor-myeloid-directed-therapies-summit-2/
LOCATION:Boston\, Boston\, Massachusetts\, Förenta Staterna\, USA
CATEGORIES:Vetenskapliga konferenser
END:VEVENT
BEGIN:VEVENT
DTSTART;VALUE=DATE:20220613
DTEND;VALUE=DATE:20220617
DTSTAMP:20260421T120232
CREATED:20221110T124545Z
LAST-MODIFIED:20221110T124545Z
UID:7647-1655078400-1655423999@alligatorbioscience.se
SUMMARY:2022 BIO International Convention in San Diego
DESCRIPTION:
URL:https://alligatorbioscience.se/event/2022-bio-international-convention-in-san-diego-2/
LOCATION:San Diego\, San Diego\, California\, Förenta Staterna\, USA
CATEGORIES:Vetenskapliga konferenser
END:VEVENT
BEGIN:VEVENT
DTSTART;VALUE=DATE:20220608
DTEND;VALUE=DATE:20220610
DTSTAMP:20260421T120232
CREATED:20221110T124726Z
LAST-MODIFIED:20221110T124726Z
UID:7651-1654646400-1654819199@alligatorbioscience.se
SUMMARY:BioStock Life Science Spring Summit
DESCRIPTION:
URL:https://alligatorbioscience.se/event/biostock-life-science-spring-summit-2/
CATEGORIES:IR events
END:VEVENT
BEGIN:VEVENT
DTSTART;VALUE=DATE:20220603
DTEND;VALUE=DATE:20220608
DTSTAMP:20260421T120232
CREATED:20221110T124955Z
LAST-MODIFIED:20221110T124955Z
UID:7656-1654214400-1654646399@alligatorbioscience.se
SUMMARY:ASCO Annual Meeting 2022
DESCRIPTION:
URL:https://alligatorbioscience.se/event/asco-annual-meeting-2022-2/
LOCATION:Chicago\, Chicago\, Illinois\, Förenta Staterna\, USA
CATEGORIES:Vetenskapliga konferenser
END:VEVENT
BEGIN:VEVENT
DTSTART;VALUE=DATE:20220602
DTEND;VALUE=DATE:20220603
DTSTAMP:20260421T120232
CREATED:20221110T125118Z
LAST-MODIFIED:20221110T125118Z
UID:7660-1654128000-1654214399@alligatorbioscience.se
SUMMARY:Redeye Growth Day
DESCRIPTION:
URL:https://alligatorbioscience.se/event/redeye-growth-day-2/
CATEGORIES:IR events
END:VEVENT
BEGIN:VEVENT
DTSTART;VALUE=DATE:20220505
DTEND;VALUE=DATE:20220506
DTSTAMP:20260421T120232
CREATED:20221110T125323Z
LAST-MODIFIED:20221110T125323Z
UID:7667-1651708800-1651795199@alligatorbioscience.se
SUMMARY:Bolagsstämma 2022
DESCRIPTION:
URL:https://alligatorbioscience.se/event/bolagsstamma-2022/
CATEGORIES:Bolagsstämma,Finansiella events
END:VEVENT
BEGIN:VEVENT
DTSTART;VALUE=DATE:20220427
DTEND;VALUE=DATE:20220428
DTSTAMP:20260421T120232
CREATED:20221110T125427Z
LAST-MODIFIED:20221110T125427Z
UID:7671-1651017600-1651103999@alligatorbioscience.se
SUMMARY:Delårsrapport januari - mars 2022
DESCRIPTION:
URL:https://alligatorbioscience.se/event/delarsrapport-januari-mars-2022/
CATEGORIES:Finansiella events
END:VEVENT
BEGIN:VEVENT
DTSTART;VALUE=DATE:20220211
DTEND;VALUE=DATE:20220212
DTSTAMP:20260421T120232
CREATED:20221110T125554Z
LAST-MODIFIED:20221110T125554Z
UID:7675-1644537600-1644623999@alligatorbioscience.se
SUMMARY:Bokslutskommuniké 2021
DESCRIPTION:
URL:https://alligatorbioscience.se/event/bokslutskommunike-2021/
CATEGORIES:Finansiella events
END:VEVENT
BEGIN:VEVENT
DTSTART;VALUE=DATE:20211021
DTEND;VALUE=DATE:20211022
DTSTAMP:20260421T120232
CREATED:20221110T125759Z
LAST-MODIFIED:20221110T125759Z
UID:7679-1634774400-1634860799@alligatorbioscience.se
SUMMARY:Delårsrapport juli - september 2021
DESCRIPTION:
URL:https://alligatorbioscience.se/event/delarsrapport-juli-september-2021/
CATEGORIES:Finansiella events
END:VEVENT
BEGIN:VEVENT
DTSTART;VALUE=DATE:20191106
DTEND;VALUE=DATE:20191111
DTSTAMP:20260421T120232
CREATED:20190926T111954Z
LAST-MODIFIED:20221110T110416Z
UID:1921-1572998400-1573430399@alligatorbioscience.se
SUMMARY:SITC (Society for Immunotherapy of Cancer)
DESCRIPTION:34th Annual Meeting\, National Harbor\, USA
URL:https://alligatorbioscience.se/event/sitc-society-for-immunotherapy-of-cancer/
LOCATION:National Harbor\, Maryland\, National Harbor\, Maryland\, Förenta Staterna\, USA
CATEGORIES:Vetenskapliga konferenser
END:VEVENT
BEGIN:VEVENT
DTSTART;VALUE=DATE:20191024
DTEND;VALUE=DATE:20191025
DTSTAMP:20260421T120232
CREATED:20190926T111853Z
LAST-MODIFIED:20221110T095439Z
UID:1920-1571875200-1571961599@alligatorbioscience.se
SUMMARY:Delårsrapport juli-september 2019
DESCRIPTION:
URL:https://alligatorbioscience.se/event/delarsrapport-juli-september-2019/
CATEGORIES:Finansiella events
END:VEVENT
BEGIN:VEVENT
DTSTART;VALUE=DATE:20191015
DTEND;VALUE=DATE:20191018
DTSTAMP:20260421T120232
CREATED:20190926T111823Z
LAST-MODIFIED:20221110T105758Z
UID:1918-1571097600-1571356799@alligatorbioscience.se
SUMMARY:Festival of Biologics\, Basel
DESCRIPTION:
URL:https://alligatorbioscience.se/event/festival-of-biologics-basel/
LOCATION:Basel\, Schweiz
CATEGORIES:Vetenskapliga konferenser
END:VEVENT
BEGIN:VEVENT
DTSTART;VALUE=DATE:20191007
DTEND;VALUE=DATE:20191008
DTSTAMP:20260421T120232
CREATED:20190926T111732Z
LAST-MODIFIED:20221110T095516Z
UID:1916-1570406400-1570492799@alligatorbioscience.se
SUMMARY:Investing in Oncology Forum 2019\, Stockholm
DESCRIPTION:Läs mer om eventet och registrera er här: http://cordcom.se/oncology-forum-2019.
URL:https://alligatorbioscience.se/event/investing-in-oncology-forum-2019-stockholm/
LOCATION:IVA\, Wallenbergsalen\, Grev Turegatan 16\, Stockholm
CATEGORIES:IR events
END:VEVENT
END:VCALENDAR