BEGIN:VCALENDAR
VERSION:2.0
PRODID:-//Alligator Bioscience - ECPv6.15.19//NONSGML v1.0//EN
CALSCALE:GREGORIAN
METHOD:PUBLISH
X-ORIGINAL-URL:https://alligatorbioscience.se
X-WR-CALDESC:Händelser för Alligator Bioscience
REFRESH-INTERVAL;VALUE=DURATION:PT1H
X-Robots-Tag:noindex
X-PUBLISHED-TTL:PT1H
BEGIN:VTIMEZONE
TZID:Europe/Stockholm
BEGIN:DAYLIGHT
TZOFFSETFROM:+0100
TZOFFSETTO:+0200
TZNAME:CEST
DTSTART:20180325T010000
END:DAYLIGHT
BEGIN:STANDARD
TZOFFSETFROM:+0200
TZOFFSETTO:+0100
TZNAME:CET
DTSTART:20181028T010000
END:STANDARD
BEGIN:DAYLIGHT
TZOFFSETFROM:+0100
TZOFFSETTO:+0200
TZNAME:CEST
DTSTART:20190331T010000
END:DAYLIGHT
BEGIN:STANDARD
TZOFFSETFROM:+0200
TZOFFSETTO:+0100
TZNAME:CET
DTSTART:20191027T010000
END:STANDARD
BEGIN:DAYLIGHT
TZOFFSETFROM:+0100
TZOFFSETTO:+0200
TZNAME:CEST
DTSTART:20200329T010000
END:DAYLIGHT
BEGIN:STANDARD
TZOFFSETFROM:+0200
TZOFFSETTO:+0100
TZNAME:CET
DTSTART:20201025T010000
END:STANDARD
BEGIN:DAYLIGHT
TZOFFSETFROM:+0100
TZOFFSETTO:+0200
TZNAME:CEST
DTSTART:20210328T010000
END:DAYLIGHT
BEGIN:STANDARD
TZOFFSETFROM:+0200
TZOFFSETTO:+0100
TZNAME:CET
DTSTART:20211031T010000
END:STANDARD
BEGIN:DAYLIGHT
TZOFFSETFROM:+0100
TZOFFSETTO:+0200
TZNAME:CEST
DTSTART:20220327T010000
END:DAYLIGHT
BEGIN:STANDARD
TZOFFSETFROM:+0200
TZOFFSETTO:+0100
TZNAME:CET
DTSTART:20221030T010000
END:STANDARD
END:VTIMEZONE
BEGIN:VEVENT
DTSTART;VALUE=DATE:20211021
DTEND;VALUE=DATE:20211022
DTSTAMP:20260421T152933
CREATED:20221110T125759Z
LAST-MODIFIED:20221110T125759Z
UID:7679-1634774400-1634860799@alligatorbioscience.se
SUMMARY:Delårsrapport juli - september 2021
DESCRIPTION:
URL:https://alligatorbioscience.se/event/delarsrapport-juli-september-2021/
CATEGORIES:Finansiella events
END:VEVENT
BEGIN:VEVENT
DTSTART;VALUE=DATE:20191106
DTEND;VALUE=DATE:20191111
DTSTAMP:20260421T152933
CREATED:20190926T111954Z
LAST-MODIFIED:20221110T110416Z
UID:1921-1572998400-1573430399@alligatorbioscience.se
SUMMARY:SITC (Society for Immunotherapy of Cancer)
DESCRIPTION:34th Annual Meeting\, National Harbor\, USA
URL:https://alligatorbioscience.se/event/sitc-society-for-immunotherapy-of-cancer/
LOCATION:National Harbor\, Maryland\, National Harbor\, Maryland\, Förenta Staterna\, USA
CATEGORIES:Vetenskapliga konferenser
END:VEVENT
BEGIN:VEVENT
DTSTART;VALUE=DATE:20191024
DTEND;VALUE=DATE:20191025
DTSTAMP:20260421T152933
CREATED:20190926T111853Z
LAST-MODIFIED:20221110T095439Z
UID:1920-1571875200-1571961599@alligatorbioscience.se
SUMMARY:Delårsrapport juli-september 2019
DESCRIPTION:
URL:https://alligatorbioscience.se/event/delarsrapport-juli-september-2019/
CATEGORIES:Finansiella events
END:VEVENT
BEGIN:VEVENT
DTSTART;VALUE=DATE:20191015
DTEND;VALUE=DATE:20191018
DTSTAMP:20260421T152933
CREATED:20190926T111823Z
LAST-MODIFIED:20221110T105758Z
UID:1918-1571097600-1571356799@alligatorbioscience.se
SUMMARY:Festival of Biologics\, Basel
DESCRIPTION:
URL:https://alligatorbioscience.se/event/festival-of-biologics-basel/
LOCATION:Basel\, Schweiz
CATEGORIES:Vetenskapliga konferenser
END:VEVENT
BEGIN:VEVENT
DTSTART;VALUE=DATE:20191007
DTEND;VALUE=DATE:20191008
DTSTAMP:20260421T152933
CREATED:20190926T111732Z
LAST-MODIFIED:20221110T095516Z
UID:1916-1570406400-1570492799@alligatorbioscience.se
SUMMARY:Investing in Oncology Forum 2019\, Stockholm
DESCRIPTION:Läs mer om eventet och registrera er här: http://cordcom.se/oncology-forum-2019.
URL:https://alligatorbioscience.se/event/investing-in-oncology-forum-2019-stockholm/
LOCATION:IVA\, Wallenbergsalen\, Grev Turegatan 16\, Stockholm
CATEGORIES:IR events
END:VEVENT
END:VCALENDAR