BEGIN:VCALENDAR
VERSION:2.0
PRODID:-//Alligator Bioscience - ECPv6.15.19//NONSGML v1.0//EN
CALSCALE:GREGORIAN
METHOD:PUBLISH
X-WR-CALNAME:Alligator Bioscience
X-ORIGINAL-URL:https://alligatorbioscience.se
X-WR-CALDESC:Händelser för Alligator Bioscience
REFRESH-INTERVAL;VALUE=DURATION:PT1H
X-Robots-Tag:noindex
X-PUBLISHED-TTL:PT1H
BEGIN:VTIMEZONE
TZID:Europe/Stockholm
BEGIN:DAYLIGHT
TZOFFSETFROM:+0100
TZOFFSETTO:+0200
TZNAME:CEST
DTSTART:20210328T010000
END:DAYLIGHT
BEGIN:STANDARD
TZOFFSETFROM:+0200
TZOFFSETTO:+0100
TZNAME:CET
DTSTART:20211031T010000
END:STANDARD
BEGIN:DAYLIGHT
TZOFFSETFROM:+0100
TZOFFSETTO:+0200
TZNAME:CEST
DTSTART:20220327T010000
END:DAYLIGHT
BEGIN:STANDARD
TZOFFSETFROM:+0200
TZOFFSETTO:+0100
TZNAME:CET
DTSTART:20221030T010000
END:STANDARD
BEGIN:DAYLIGHT
TZOFFSETFROM:+0100
TZOFFSETTO:+0200
TZNAME:CEST
DTSTART:20230326T010000
END:DAYLIGHT
BEGIN:STANDARD
TZOFFSETFROM:+0200
TZOFFSETTO:+0100
TZNAME:CET
DTSTART:20231029T010000
END:STANDARD
END:VTIMEZONE
BEGIN:VEVENT
DTSTART;VALUE=DATE:20221102
DTEND;VALUE=DATE:20221105
DTSTAMP:20260425T142124
CREATED:20221110T110852Z
LAST-MODIFIED:20221110T111005Z
UID:7603-1667347200-1667606399@alligatorbioscience.se
SUMMARY:Festival of Biologics
DESCRIPTION:Mattias Levin\, PhD\, Senior Team Manager\, Antibody Engineering\, på Alligator Bioscience kommer att hålla en presentation den 3 november\, kl 17:00 med titeln ”Neo-X-Prime™: Bispecific Tumor Antigen Conditional CD40 Agonistic Antibodies”.
URL:https://alligatorbioscience.se/event/festival-of-biologics/
LOCATION:Basel\, Schweiz
CATEGORIES:Vetenskapliga konferenser
END:VEVENT
BEGIN:VEVENT
DTSTART;VALUE=DATE:20221108
DTEND;VALUE=DATE:20221113
DTSTAMP:20260425T142124
CREATED:20221110T111250Z
LAST-MODIFIED:20221110T111250Z
UID:7612-1667865600-1668297599@alligatorbioscience.se
SUMMARY:SITC (Society for Immunotherapy of Cancer) 2022
DESCRIPTION:Malin Lindstedt\, gästprofessor vid Alligator Bioscience och professor vid institutionen för immunteknologi vid Lunds universitet kommer att hålla en posterpresentation med posternummer 35 den 10 november\, med titeln ”Early pharmacodynamic changes measured by RNA sequencing in peripheral blood from patients in a phase 1 study with mitazalimab\, a potent CD40 agonistic IgG1 monoclonal antibody”. \nAna Carneiro\, docent och överläkare vid Lunds universitet\, kommer att hålla en posterpresentation med posternummer 714 den 11 november\, med titeln ” ATOR-1017\, a 4-1BB antibody\, demonstrates promising safety and proof of mechanism in a first-in-human study in patients with advanced solid malignancies”.
URL:https://alligatorbioscience.se/event/sitc-society-for-immunotherapy-of-cancer-2022-2/
LOCATION:Boston\, Boston\, Massachusetts\, Förenta Staterna\, USA
CATEGORIES:Vetenskapliga konferenser
END:VEVENT
BEGIN:VEVENT
DTSTART;VALUE=DATE:20221115
DTEND;VALUE=DATE:20221118
DTSTAMP:20260425T142124
CREATED:20221110T111544Z
LAST-MODIFIED:20221110T111544Z
UID:7618-1668470400-1668729599@alligatorbioscience.se
SUMMARY:Jefferies London Healthcare Conference 2022
DESCRIPTION:
URL:https://alligatorbioscience.se/event/jefferies-london-healthcare-conference-2022-2/
LOCATION:London\, London\, Storbritannien (Förenade kungariket Storbritannien)
CATEGORIES:IR events
END:VEVENT
BEGIN:VEVENT
DTSTART;VALUE=DATE:20221124
DTEND;VALUE=DATE:20221125
DTSTAMP:20260425T142124
CREATED:20221110T111825Z
LAST-MODIFIED:20221110T111825Z
UID:7623-1669248000-1669334399@alligatorbioscience.se
SUMMARY:Redeye Life Science Day\, Stockholm
DESCRIPTION:Alligators vd Søren Bregenholt kommer att presentera bolaget\, dess senaste utveckling\, och kommande nyckelevent för investerare.
URL:https://alligatorbioscience.se/event/redeye-life-science-day-stockholm-2/
LOCATION:Virtuellt
CATEGORIES:IR events
END:VEVENT
BEGIN:VEVENT
DTSTART;TZID=Europe/Stockholm:20221130T130000
DTEND;TZID=Europe/Stockholm:20221130T133000
DTSTAMP:20260425T142124
CREATED:20221110T112053Z
LAST-MODIFIED:20221110T112053Z
UID:7628-1669813200-1669815000@alligatorbioscience.se
SUMMARY:Biostock Life Science Fall Summit 2022
DESCRIPTION:Alligators vd Søren Bregenholt kommer att hålla en företagspresentation\, vilken följs av en frågestund\, den 30 november klockan 13:00.
URL:https://alligatorbioscience.se/event/biostock-life-science-fall-summit-2022-2/
LOCATION:Medicon Village\, Medicon Village\, Lund\, Sverige
CATEGORIES:IR events
END:VEVENT
END:VCALENDAR